Package: cycle Version: 1.63.0 Command: /Library/Frameworks/R.framework/Resources/bin/R CMD INSTALL cycle StartedAt: 2025-10-12 15:16:45 -0400 (Sun, 12 Oct 2025) EndedAt: 2025-10-12 15:16:59 -0400 (Sun, 12 Oct 2025) EllapsedTime: 13.9 seconds RetCode: 0 Status: OK