Package: cycle Version: 1.63.0 Command: /Library/Frameworks/R.framework/Resources/bin/R CMD build --keep-empty-dirs --no-resave-data cycle StartedAt: 2025-10-12 16:39:30 -0400 (Sun, 12 Oct 2025) EndedAt: 2025-10-12 16:40:11 -0400 (Sun, 12 Oct 2025) EllapsedTime: 41.8 seconds RetCode: 0 Status: OK PackageFile: cycle_1.63.0.tar.gz PackageFileSize: 247.4 KiB