Package: cycle Version: 1.63.0 Maintainer: Matthias Futschik MaintainerEmail: mfutschik at ualg.pt git_url: https://git.bioconductor.org/packages/cycle git_branch: devel git_last_commit: 96af587 git_last_commit_date: 2025-04-15 09:46:02 -0400 (Tue, 15 Apr 2025)