Package: cyanoFilter Version: 1.19.0 Maintainer: Oluwafemi Olusoji MaintainerEmail: oluwafemi.olusoji at uhasselt.be git_url: https://git.bioconductor.org/packages/cyanoFilter git_branch: devel git_last_commit: 8ca42f1 git_last_commit_date: 2025-10-29 11:07:55 -0400 (Wed, 29 Oct 2025)