Package: customProDB Version: 1.51.0 Command: /home/biocbuild/bbs-3.23-bioc/R/bin/R CMD INSTALL customProDB StartedAt: 2025-11-04 15:39:40 -0500 (Tue, 04 Nov 2025) EndedAt: 2025-11-04 15:40:24 -0500 (Tue, 04 Nov 2025) EllapsedTime: 43.8 seconds RetCode: 0 Status: OK