Package: customProDB Version: 1.51.0 Command: /home/biocbuild/bbs-3.23-bioc/R/bin/R CMD check --install=check:customProDB.install-out.txt --library=/home/biocbuild/bbs-3.23-bioc/R/site-library --timings customProDB_1.51.0.tar.gz StartedAt: 2025-11-05 22:28:54 -0500 (Wed, 05 Nov 2025) EndedAt: 2025-11-05 22:34:14 -0500 (Wed, 05 Nov 2025) EllapsedTime: 319.4 seconds RetCode: 1 Status: ERROR CheckDir: customProDB.Rcheck Warnings: NA