Package: customProDB Version: 1.51.0 Command: /home/biocbuild/bbs-3.23-bioc/R/bin/R CMD build --keep-empty-dirs --no-resave-data customProDB StartedAt: 2025-11-04 17:01:34 -0500 (Tue, 04 Nov 2025) EndedAt: 2025-11-04 17:02:47 -0500 (Tue, 04 Nov 2025) EllapsedTime: 73.0 seconds RetCode: 0 Status: OK PackageFile: customProDB_1.51.0.tar.gz PackageFileSize: 540.4 KiB