Package: customProDB Version: 1.49.0 Command: rm -rf customProDB.buildbin-libdir && mkdir customProDB.buildbin-libdir && /Users/biocbuild/BBS/utils/build-universal.sh customProDB_1.49.0.tar.gz /Library/Frameworks/R.framework/Resources/bin/R customProDB.buildbin-libdir StartedAt: 2025-10-13 02:28:16 -0400 (Mon, 13 Oct 2025) EndedAt: 2025-10-13 02:29:17 -0400 (Mon, 13 Oct 2025) EllapsedTime: 61.2 seconds RetCode: 0 Status: OK PackageFile: customProDB_1.49.0.tgz PackageFileSize: 718 KiB