Package: customCMPdb Version: 1.19.0 Command: /home/biocbuild/R/R/bin/R CMD INSTALL customCMPdb StartedAt: 2025-10-06 20:39:31 -0000 (Mon, 06 Oct 2025) EndedAt: 2025-10-06 20:39:55 -0000 (Mon, 06 Oct 2025) EllapsedTime: 24.0 seconds RetCode: 0 Status: OK