Package: customCMPdb Version: 1.19.0 Command: /home/biocbuild/R/R/bin/R CMD build --keep-empty-dirs --no-resave-data customCMPdb StartedAt: 2025-10-06 22:59:55 -0000 (Mon, 06 Oct 2025) EndedAt: 2025-10-06 23:04:09 -0000 (Mon, 06 Oct 2025) EllapsedTime: 253.5 seconds RetCode: 0 Status: OK PackageFile: customCMPdb_1.19.0.tar.gz PackageFileSize: 730.4 KiB