Package: customCMPdb Version: 1.21.0 Command: /home/biocbuild/bbs-3.23-bioc/R/bin/R CMD build --keep-empty-dirs --no-resave-data customCMPdb StartedAt: 2025-11-20 17:06:14 -0500 (Thu, 20 Nov 2025) EndedAt: 2025-11-20 17:08:03 -0500 (Thu, 20 Nov 2025) EllapsedTime: 109.1 seconds RetCode: 0 Status: OK PackageFile: customCMPdb_1.21.0.tar.gz PackageFileSize: 683.6 KiB