Package: ctsGE Version: 1.35.0 Command: /Library/Frameworks/R.framework/Resources/bin/R CMD INSTALL ctsGE StartedAt: 2025-10-28 15:12:39 -0400 (Tue, 28 Oct 2025) EndedAt: 2025-10-28 15:13:03 -0400 (Tue, 28 Oct 2025) EllapsedTime: 24.3 seconds RetCode: 0 Status: OK