Package: ctsGE Version: 1.35.0 Command: /Library/Frameworks/R.framework/Resources/bin/R CMD INSTALL ctsGE StartedAt: 2025-10-15 15:05:37 -0400 (Wed, 15 Oct 2025) EndedAt: 2025-10-15 15:05:44 -0400 (Wed, 15 Oct 2025) EllapsedTime: 7.3 seconds RetCode: 0 Status: OK