Package: ctsGE Version: 1.35.0 Command: /Library/Frameworks/R.framework/Resources/bin/R CMD build --keep-empty-dirs --no-resave-data ctsGE StartedAt: 2025-10-15 16:05:11 -0400 (Wed, 15 Oct 2025) EndedAt: 2025-10-15 16:05:21 -0400 (Wed, 15 Oct 2025) EllapsedTime: 10.1 seconds RetCode: 0 Status: OK PackageFile: ctsGE_1.35.0.tar.gz PackageFileSize: 1.133 MiB