Package: ctc Version: 1.85.0 Command: /home/biocbuild/bbs-3.23-bioc/R/bin/R CMD build --keep-empty-dirs --no-resave-data ctc StartedAt: 2025-10-31 17:17:00 -0400 (Fri, 31 Oct 2025) EndedAt: 2025-10-31 17:17:05 -0400 (Fri, 31 Oct 2025) EllapsedTime: 5.0 seconds RetCode: 0 Status: OK PackageFile: ctc_1.85.0.tar.gz PackageFileSize: 270.3 KiB