Package: ctc Version: 1.83.0 Command: /Library/Frameworks/R.framework/Resources/bin/R CMD INSTALL ctc StartedAt: 2025-10-03 15:05:09 -0400 (Fri, 03 Oct 2025) EndedAt: 2025-10-03 15:05:47 -0400 (Fri, 03 Oct 2025) EllapsedTime: 38.0 seconds RetCode: 0 Status: OK