Package: ctc Version: 1.83.0 Command: /Library/Frameworks/R.framework/Resources/bin/R CMD build --keep-empty-dirs --no-resave-data ctc StartedAt: 2025-10-03 16:35:41 -0400 (Fri, 03 Oct 2025) EndedAt: 2025-10-03 16:35:50 -0400 (Fri, 03 Oct 2025) EllapsedTime: 9.1 seconds RetCode: 0 Status: OK PackageFile: ctc_1.83.0.tar.gz PackageFileSize: 269.9 KiB