Package: csdR Version: 1.15.0 Command: /home/biocbuild/bbs-3.22-bioc/R/bin/R CMD check --install=check:csdR.install-out.txt --library=/home/biocbuild/bbs-3.22-bioc/R/site-library --timings csdR_1.15.0.tar.gz StartedAt: 2025-09-30 22:42:38 -0400 (Tue, 30 Sep 2025) EndedAt: 2025-09-30 22:47:38 -0400 (Tue, 30 Sep 2025) EllapsedTime: 300.2 seconds RetCode: 0 Status: OK CheckDir: csdR.Rcheck Warnings: 0