Package: csdR Version: 1.17.0 Command: /home/biocbuild/bbs-3.23-bioc/R/bin/R CMD INSTALL csdR StartedAt: 2025-10-31 15:57:50 -0400 (Fri, 31 Oct 2025) EndedAt: 2025-10-31 15:58:20 -0400 (Fri, 31 Oct 2025) EllapsedTime: 30.1 seconds RetCode: 0 Status: OK