Package: csaw Version: 1.43.1 Command: /home/biocbuild/R/R/bin/R CMD INSTALL csaw StartedAt: 2025-10-06 20:29:34 -0000 (Mon, 06 Oct 2025) EndedAt: 2025-10-06 20:31:19 -0000 (Mon, 06 Oct 2025) EllapsedTime: 105.5 seconds RetCode: 0 Status: OK