Package: csaw Version: 1.43.1 Command: /home/biocbuild/R/R/bin/R CMD build --keep-empty-dirs --no-resave-data csaw StartedAt: 2025-10-06 22:57:49 -0000 (Mon, 06 Oct 2025) EndedAt: 2025-10-06 22:59:47 -0000 (Mon, 06 Oct 2025) EllapsedTime: 118.0 seconds RetCode: 0 Status: OK PackageFile: csaw_1.43.1.tar.gz PackageFileSize: 416.5 KiB