Package: csaw Version: 1.43.1 Command: rm -rf csaw.buildbin-libdir && mkdir csaw.buildbin-libdir && F:\biocbuild\bbs-3.22-bioc\R\bin\R.exe CMD INSTALL --build --library=csaw.buildbin-libdir csaw_1.43.1.tar.gz StartedAt: 2025-08-15 10:03:30 -0400 (Fri, 15 Aug 2025) EndedAt: 2025-08-15 10:06:33 -0400 (Fri, 15 Aug 2025) EllapsedTime: 182.8 seconds RetCode: 0 Status: OK PackageFile: csaw_1.43.1.zip PackageFileSize: 6.073 MiB