Package: csaw Version: 1.45.0 Command: /home/biocbuild/bbs-3.23-bioc/R/bin/R CMD INSTALL csaw StartedAt: 2025-11-05 15:24:00 -0500 (Wed, 05 Nov 2025) EndedAt: 2025-11-05 15:25:12 -0500 (Wed, 05 Nov 2025) EllapsedTime: 72.0 seconds RetCode: 0 Status: OK