Package: csaw Version: 1.45.0 Command: /home/biocbuild/bbs-3.23-bioc/R/bin/R CMD check --install=check:csaw.install-out.txt --library=/home/biocbuild/bbs-3.23-bioc/R/site-library --timings csaw_1.45.0.tar.gz StartedAt: 2025-11-06 22:17:22 -0500 (Thu, 06 Nov 2025) EndedAt: 2025-11-06 22:24:45 -0500 (Thu, 06 Nov 2025) EllapsedTime: 442.6 seconds RetCode: 0 Status: OK CheckDir: csaw.Rcheck Warnings: 0