Package: crupR Version: 1.1.1 Command: /home/biocbuild/R/R/bin/R CMD INSTALL crupR StartedAt: 2025-10-09 22:10:15 -0000 (Thu, 09 Oct 2025) EndedAt: 2025-10-09 22:11:05 -0000 (Thu, 09 Oct 2025) EllapsedTime: 50.7 seconds RetCode: 0 Status: OK