Package: crupR Version: 1.1.1 Command: /home/biocbuild/R/R/bin/R CMD build --keep-empty-dirs --no-resave-data crupR StartedAt: 2025-10-09 23:51:41 -0000 (Thu, 09 Oct 2025) EndedAt: 2025-10-10 00:04:47 -0000 (Fri, 10 Oct 2025) EllapsedTime: 785.9 seconds RetCode: 0 Status: OK PackageFile: crupR_1.1.1.tar.gz PackageFileSize: 4.157 MiB