Package: crupR Version: 1.1.1 Command: /home/biocbuild/bbs-3.22-bioc/R/bin/R CMD check --install=check:crupR.install-out.txt --library=/home/biocbuild/bbs-3.22-bioc/R/site-library --timings crupR_1.1.1.tar.gz StartedAt: 2025-10-10 22:54:18 -0400 (Fri, 10 Oct 2025) EndedAt: 2025-10-10 23:17:27 -0400 (Fri, 10 Oct 2025) EllapsedTime: 1389.6 seconds RetCode: 0 Status: OK CheckDir: crupR.Rcheck Warnings: 0