Package: crupR Version: 1.3.0 Command: /home/biocbuild/bbs-3.23-bioc/R/bin/R CMD INSTALL crupR StartedAt: 2025-11-06 15:58:18 -0500 (Thu, 06 Nov 2025) EndedAt: 2025-11-06 15:58:58 -0500 (Thu, 06 Nov 2025) EllapsedTime: 40.6 seconds RetCode: 0 Status: OK