Package: crupR Version: 1.3.0 Command: /home/biocbuild/bbs-3.23-bioc/R/bin/R CMD check --install=check:crupR.install-out.txt --library=/home/biocbuild/bbs-3.23-bioc/R/site-library --timings crupR_1.3.0.tar.gz StartedAt: 2025-11-17 22:33:34 -0500 (Mon, 17 Nov 2025) EndedAt: 2025-11-17 22:53:09 -0500 (Mon, 17 Nov 2025) EllapsedTime: 1175.4 seconds RetCode: 0 Status: OK CheckDir: crupR.Rcheck Warnings: 0