Package: crumblr Version: 1.3.0 Command: /home/biocbuild/bbs-3.23-bioc/R/bin/R CMD INSTALL crumblr StartedAt: 2025-11-07 15:57:32 -0500 (Fri, 07 Nov 2025) EndedAt: 2025-11-07 15:58:02 -0500 (Fri, 07 Nov 2025) EllapsedTime: 30.7 seconds RetCode: 0 Status: OK