Package: crumblr Version: 1.1.0 Command: /Library/Frameworks/R.framework/Resources/bin/R CMD INSTALL crumblr StartedAt: 2025-10-23 15:47:22 -0400 (Thu, 23 Oct 2025) EndedAt: 2025-10-23 15:48:04 -0400 (Thu, 23 Oct 2025) EllapsedTime: 42.3 seconds RetCode: 0 Status: OK