Package: crumblr Version: 1.1.0 Command: /Library/Frameworks/R.framework/Resources/bin/R CMD build --keep-empty-dirs --no-resave-data crumblr StartedAt: 2025-10-23 16:34:35 -0400 (Thu, 23 Oct 2025) EndedAt: 2025-10-23 16:36:40 -0400 (Thu, 23 Oct 2025) EllapsedTime: 124.8 seconds RetCode: 0 Status: OK PackageFile: crumblr_1.1.0.tar.gz PackageFileSize: 1.83 MiB