Package: crumblr Version: 1.1.0 Command: rm -rf crumblr.buildbin-libdir && mkdir crumblr.buildbin-libdir && /Users/biocbuild/BBS/utils/build-universal.sh crumblr_1.1.0.tar.gz /Library/Frameworks/R.framework/Resources/bin/R crumblr.buildbin-libdir StartedAt: 2025-10-24 01:29:25 -0400 (Fri, 24 Oct 2025) EndedAt: 2025-10-24 01:30:11 -0400 (Fri, 24 Oct 2025) EllapsedTime: 45.9 seconds RetCode: 0 Status: OK PackageFile: crumblr_1.1.0.tgz PackageFileSize: 1.884 MiB