Package: crumblr Version: 1.1.0 Command: /Library/Frameworks/R.framework/Resources/bin/R CMD INSTALL crumblr StartedAt: 2025-10-16 15:43:21 -0400 (Thu, 16 Oct 2025) EndedAt: 2025-10-16 15:43:33 -0400 (Thu, 16 Oct 2025) EllapsedTime: 12.5 seconds RetCode: 0 Status: OK