Package: crumblr Version: 1.1.0 Command: /Library/Frameworks/R.framework/Resources/bin/R CMD build --keep-empty-dirs --no-resave-data crumblr StartedAt: 2025-10-15 16:04:11 -0400 (Wed, 15 Oct 2025) EndedAt: 2025-10-15 16:04:59 -0400 (Wed, 15 Oct 2025) EllapsedTime: 47.5 seconds RetCode: 0 Status: OK PackageFile: crumblr_1.1.0.tar.gz PackageFileSize: 1.83 MiB