Package: crumblr Version: 1.1.0 Command: rm -rf crumblr.buildbin-libdir && mkdir crumblr.buildbin-libdir && /Users/biocbuild/BBS/utils/build-universal.sh crumblr_1.1.0.tar.gz /Library/Frameworks/R.framework/Resources/bin/R crumblr.buildbin-libdir StartedAt: 2025-10-15 22:42:14 -0400 (Wed, 15 Oct 2025) EndedAt: 2025-10-15 22:42:28 -0400 (Wed, 15 Oct 2025) EllapsedTime: 14.3 seconds RetCode: 0 Status: OK PackageFile: crumblr_1.1.0.tgz PackageFileSize: 1.885 MiB