Package: crlmm Version: 1.69.0 Command: /home/biocbuild/bbs-3.23-bioc/R/bin/R CMD INSTALL crlmm StartedAt: 2025-11-05 15:37:06 -0500 (Wed, 05 Nov 2025) EndedAt: 2025-11-05 15:37:47 -0500 (Wed, 05 Nov 2025) EllapsedTime: 41.9 seconds RetCode: 0 Status: OK