Package: crlmm Version: 1.69.0 Command: /home/biocbuild/bbs-3.23-bioc/R/bin/R CMD build --keep-empty-dirs --no-resave-data crlmm StartedAt: 2025-11-05 17:06:18 -0500 (Wed, 05 Nov 2025) EndedAt: 2025-11-05 17:08:56 -0500 (Wed, 05 Nov 2025) EllapsedTime: 158.1 seconds RetCode: 0 Status: OK PackageFile: crlmm_1.69.0.tar.gz PackageFileSize: 4.276 MiB