Package: crlmm Version: 1.69.0 Command: /Library/Frameworks/R.framework/Resources/bin/R CMD build --keep-empty-dirs --no-resave-data crlmm StartedAt: 2025-11-20 16:38:01 -0500 (Thu, 20 Nov 2025) EndedAt: 2025-11-20 16:40:18 -0500 (Thu, 20 Nov 2025) EllapsedTime: 137.3 seconds RetCode: 0 Status: OK PackageFile: crlmm_1.69.0.tar.gz PackageFileSize: 4.275 MiB