Package: crlmm Version: 1.69.0 Command: rm -rf crlmm.buildbin-libdir && mkdir crlmm.buildbin-libdir && /Users/biocbuild/BBS/utils/build-universal.sh crlmm_1.69.0.tar.gz /Library/Frameworks/R.framework/Resources/bin/R crlmm.buildbin-libdir StartedAt: 2025-11-21 01:28:48 -0500 (Fri, 21 Nov 2025) EndedAt: 2025-11-21 01:29:43 -0500 (Fri, 21 Nov 2025) EllapsedTime: 55.4 seconds RetCode: 0 Status: OK PackageFile: crlmm_1.69.0.tgz PackageFileSize: 5.197 MiB