Package: crlmm Version: 1.67.0 Command: /Library/Frameworks/R.framework/Resources/bin/R CMD build --keep-empty-dirs --no-resave-data crlmm StartedAt: 2025-10-05 16:02:52 -0400 (Sun, 05 Oct 2025) EndedAt: 2025-10-05 16:04:00 -0400 (Sun, 05 Oct 2025) EllapsedTime: 67.7 seconds RetCode: 0 Status: OK PackageFile: crlmm_1.67.0.tar.gz PackageFileSize: 4.276 MiB