Package: crlmm Version: 1.69.0 Maintainer: Benilton S Carvalho MaintainerEmail: benilton at unicamp.br git_url: https://git.bioconductor.org/packages/crlmm git_branch: devel git_last_commit: 51993cf git_last_commit_date: 2025-10-29 10:02:32 -0500 (Wed, 29 Oct 2025)