Package: crisprViz Version: 1.13.0 Command: /Library/Frameworks/R.framework/Resources/bin/R CMD INSTALL crisprViz StartedAt: 2025-11-20 15:47:11 -0500 (Thu, 20 Nov 2025) EndedAt: 2025-11-20 15:48:22 -0500 (Thu, 20 Nov 2025) EllapsedTime: 71.3 seconds RetCode: 0 Status: OK