Package: crisprViz Version: 1.13.0 Command: /Library/Frameworks/R.framework/Resources/bin/R CMD build --keep-empty-dirs --no-resave-data crisprViz StartedAt: 2025-11-20 16:37:51 -0500 (Thu, 20 Nov 2025) EndedAt: 2025-11-20 16:40:24 -0500 (Thu, 20 Nov 2025) EllapsedTime: 153.4 seconds RetCode: 0 Status: OK PackageFile: crisprViz_1.13.0.tar.gz PackageFileSize: 1.302 MiB