Package: crisprViz Version: 1.13.0 Command: rm -rf crisprViz.buildbin-libdir && mkdir crisprViz.buildbin-libdir && /Users/biocbuild/BBS/utils/build-universal.sh crisprViz_1.13.0.tar.gz /Library/Frameworks/R.framework/Resources/bin/R crisprViz.buildbin-libdir StartedAt: 2025-11-21 01:28:48 -0500 (Fri, 21 Nov 2025) EndedAt: 2025-11-21 01:30:03 -0500 (Fri, 21 Nov 2025) EllapsedTime: 75.2 seconds RetCode: 0 Status: OK PackageFile: crisprViz_1.13.0.tgz PackageFileSize: 1.355 MiB