Package: crisprViz Version: 1.11.1 Command: /Library/Frameworks/R.framework/Resources/bin/R CMD build --keep-empty-dirs --no-resave-data crisprViz StartedAt: 2025-10-24 16:06:25 -0400 (Fri, 24 Oct 2025) EndedAt: 2025-10-24 16:07:19 -0400 (Fri, 24 Oct 2025) EllapsedTime: 54.6 seconds RetCode: 0 Status: OK PackageFile: crisprViz_1.11.1.tar.gz PackageFileSize: 1.302 MiB