Package: crisprVerse Version: 1.11.0 Command: /home/biocbuild/bbs-3.22-bioc/R/bin/R CMD INSTALL crisprVerse StartedAt: 2025-10-03 15:47:12 -0400 (Fri, 03 Oct 2025) EndedAt: 2025-10-03 15:48:01 -0400 (Fri, 03 Oct 2025) EllapsedTime: 49.4 seconds RetCode: 0 Status: OK