Package: crisprVerse Version: 1.13.1 Command: /Library/Frameworks/R.framework/Resources/bin/R CMD INSTALL crisprVerse StartedAt: 2025-11-25 15:26:34 -0500 (Tue, 25 Nov 2025) EndedAt: 2025-11-25 15:26:54 -0500 (Tue, 25 Nov 2025) EllapsedTime: 19.9 seconds RetCode: 0 Status: OK