Package: crisprVerse Version: 1.13.1 Command: /Library/Frameworks/R.framework/Resources/bin/R CMD build --keep-empty-dirs --no-resave-data crisprVerse StartedAt: 2025-11-25 16:01:55 -0500 (Tue, 25 Nov 2025) EndedAt: 2025-11-25 16:02:26 -0500 (Tue, 25 Nov 2025) EllapsedTime: 30.3 seconds RetCode: 0 Status: OK PackageFile: crisprVerse_1.13.1.tar.gz PackageFileSize: 295.8 KiB