Package: crisprVerse Version: 1.13.1 Command: rm -rf crisprVerse.buildbin-libdir && mkdir crisprVerse.buildbin-libdir && /Users/biocbuild/BBS/utils/build-universal.sh crisprVerse_1.13.1.tar.gz /Library/Frameworks/R.framework/Resources/bin/R crisprVerse.buildbin-libdir StartedAt: 2025-11-25 23:29:39 -0500 (Tue, 25 Nov 2025) EndedAt: 2025-11-25 23:30:03 -0500 (Tue, 25 Nov 2025) EllapsedTime: 24.5 seconds RetCode: 0 Status: OK PackageFile: crisprVerse_1.13.1.tgz PackageFileSize: 309.4 KiB